BEGIN:VCALENDAR
VERSION:2.0
PRODID:icalendar-ruby
CALSCALE:GREGORIAN
BEGIN:VEVENT
DTSTAMP:20260423T134420Z
UID:a623ed34-2b11-4e8d-8048-e8a6e3cc6fe7
DTSTART;VALUE=DATE:20260507
DESCRIPTION:Property ID# 606961\, Locatoin: Level 1\, 77 Thorndon Quay\, Th
 orndon\, Time: 2:00PM
SUMMARY:Auction for 2A Downing Street
END:VEVENT
END:VCALENDAR
