BEGIN:VCALENDAR
VERSION:2.0
PRODID:icalendar-ruby
CALSCALE:GREGORIAN
BEGIN:VEVENT
DTSTAMP:20260422T112303Z
UID:c366c5c1-1200-4fe0-873b-f1ff9fd4d0c9
DTSTART;VALUE=DATE:20260326
DESCRIPTION:Property ID# 604422\, Locatoin: 136 Karori Road\, Time: 12:00PM
SUMMARY:Auction for 
END:VEVENT
END:VCALENDAR
