BEGIN:VCALENDAR
VERSION:2.0
PRODID:icalendar-ruby
CALSCALE:GREGORIAN
BEGIN:VEVENT
DTSTAMP:20260420T085303Z
UID:802c77ba-2094-41cb-b563-c67be6863c13
DTSTART;VALUE=DATE:20251010
DESCRIPTION:Property ID# 597975\, Locatoin: 8 Kent Terrace\, Wellington\, T
 ime: 12:00PM
SUMMARY:Auction for 
END:VEVENT
END:VCALENDAR
