BEGIN:VCALENDAR
VERSION:2.0
PRODID:icalendar-ruby
CALSCALE:GREGORIAN
BEGIN:VEVENT
DTSTAMP:20260421T084600Z
UID:ee9587af-bbb9-405d-a31c-83fe609ac1f8
DTSTART;VALUE=DATE:20251117
DESCRIPTION:Property ID# 597917\, Time: 4:00PM
SUMMARY:Auction for 
END:VEVENT
END:VCALENDAR
