BEGIN:VCALENDAR
VERSION:2.0
PRODID:icalendar-ruby
CALSCALE:GREGORIAN
BEGIN:VEVENT
DTSTAMP:20260422T112211Z
UID:d75aa0e8-3890-40b3-85b3-be3935a1c73e
DTSTART;VALUE=DATE:20251008
DESCRIPTION:Property ID# 597156\, Locatoin: 136 Karori Road.\, Time: 12:00P
 M
SUMMARY:Auction for 
END:VEVENT
END:VCALENDAR
