BEGIN:VCALENDAR
VERSION:2.0
PRODID:icalendar-ruby
CALSCALE:GREGORIAN
BEGIN:VEVENT
DTSTAMP:20260419T153814Z
UID:6dcf18e3-e0be-47aa-803a-a20c9bd9ae96
DTSTART;VALUE=DATE:20240314
DESCRIPTION:Property ID# 570830\, Locatoin: Ray White Johnsonville (not sel
 ling prior)\, Time: 1:00PM
SUMMARY:Auction for 
END:VEVENT
END:VCALENDAR
