BEGIN:VCALENDAR
VERSION:2.0
PRODID:icalendar-ruby
CALSCALE:GREGORIAN
BEGIN:VEVENT
DTSTAMP:20260421T003810Z
UID:2c843c46-70f0-41dc-8887-1d1b6494bc78
DTSTART;VALUE=DATE:20240313
DESCRIPTION:Property ID# 570397\, Locatoin: In Rooms \, Time: 1:00PM
SUMMARY:Auction for 
END:VEVENT
END:VCALENDAR
