BEGIN:VCALENDAR
VERSION:2.0
PRODID:icalendar-ruby
CALSCALE:GREGORIAN
BEGIN:VEVENT
DTSTAMP:20260421T004122Z
UID:39ce9b31-0ce3-4748-a431-a9599461eb38
DTSTART;VALUE=DATE:20240305
DESCRIPTION:Property ID# 569957\, Locatoin: WELLINGTON\, Time: 12:00PM
SUMMARY:Auction for 
END:VEVENT
END:VCALENDAR
