BEGIN:VCALENDAR
VERSION:2.0
PRODID:icalendar-ruby
CALSCALE:GREGORIAN
BEGIN:VEVENT
DTSTAMP:20260421T005643Z
UID:9ca410b3-571f-47b8-85e8-790bf167ffdb
DTSTART;VALUE=DATE:20240220
DESCRIPTION:Property ID# 569452\, Time: 12:00PM
SUMMARY:Auction for 
END:VEVENT
END:VCALENDAR
