BEGIN:VCALENDAR
VERSION:2.0
PRODID:icalendar-ruby
CALSCALE:GREGORIAN
BEGIN:VEVENT
DTSTAMP:20260420T041326Z
UID:04b48f3b-60d7-4721-a792-6ba7b0246332
DTSTART;VALUE=DATE:20231004
DESCRIPTION:Property ID# 562360\, Time: 2:00PM
SUMMARY:Auction for 
END:VEVENT
END:VCALENDAR
