BEGIN:VCALENDAR
VERSION:2.0
PRODID:icalendar-ruby
CALSCALE:GREGORIAN
BEGIN:VEVENT
DTSTAMP:20260423T084100Z
UID:3b2f0d7b-ea6c-4b7f-b7e3-cd02a68a7c47
DTSTART;VALUE=DATE:20230928
DESCRIPTION:Property ID# 561686\, Time: 2:00PM
SUMMARY:Auction for 
END:VEVENT
END:VCALENDAR
