BEGIN:VCALENDAR
VERSION:2.0
PRODID:icalendar-ruby
CALSCALE:GREGORIAN
BEGIN:VEVENT
DTSTAMP:20260421T005004Z
UID:8bf500d2-fd58-4be1-9de6-1833a28cf6b6
DTSTART;VALUE=DATE:20220412
DESCRIPTION:Property ID# 532425\, Locatoin: WELLINGTON\, Time: 12:00PM
SUMMARY:Auction for 
END:VEVENT
END:VCALENDAR
