BEGIN:VCALENDAR
VERSION:2.0
PRODID:icalendar-ruby
CALSCALE:GREGORIAN
BEGIN:VEVENT
DTSTAMP:20260421T004138Z
UID:9b5f4d06-694c-4273-be07-d24d206d6ff9
DTSTART;VALUE=DATE:20211027
DESCRIPTION:Property ID# 518862\, Locatoin: WELLINGTON\, Time: 12:00PM
SUMMARY:Auction for 
END:VEVENT
END:VCALENDAR
