BEGIN:VCALENDAR
VERSION:2.0
PRODID:icalendar-ruby
CALSCALE:GREGORIAN
BEGIN:VEVENT
DTSTAMP:20260421T003504Z
UID:83beed86-59e2-403b-8824-d9ed18f23149
DTSTART;VALUE=DATE:20211019
DESCRIPTION:Property ID# 517966\, Locatoin: WELLINGTON\, Time: 12:00PM
SUMMARY:Auction for 
END:VEVENT
END:VCALENDAR
