BEGIN:VCALENDAR
VERSION:2.0
PRODID:icalendar-ruby
CALSCALE:GREGORIAN
BEGIN:VEVENT
DTSTAMP:20260420T012902Z
UID:66e13e21-ff8f-4282-a912-b6d2bab98f23
DTSTART;VALUE=DATE:20210722
DESCRIPTION:Property ID# 513112\, Time: 2:00PM
SUMMARY:Auction for 
END:VEVENT
END:VCALENDAR
