BEGIN:VCALENDAR
VERSION:2.0
PRODID:icalendar-ruby
CALSCALE:GREGORIAN
BEGIN:VEVENT
DTSTAMP:20260421T003523Z
UID:ed531dc0-0f92-4a7f-8d48-8825c43c7efd
DTSTART;VALUE=DATE:20210629
DESCRIPTION:Property ID# 511658\, Locatoin: WELLINGTON\, Time: 12:00PM
SUMMARY:Auction for 
END:VEVENT
END:VCALENDAR
