BEGIN:VCALENDAR
VERSION:2.0
PRODID:icalendar-ruby
CALSCALE:GREGORIAN
BEGIN:VEVENT
DTSTAMP:20260423T050826Z
UID:ab579194-54df-4855-9c39-6998e3ee41ee
DTSTART;VALUE=DATE:20210616
DESCRIPTION:Property ID# 511227\, Locatoin: Level 1\, 77 Thorndon Quay\, We
 llington \, Time: 1:00PM
SUMMARY:Auction for 
END:VEVENT
END:VCALENDAR
