BEGIN:VCALENDAR
VERSION:2.0
PRODID:icalendar-ruby
CALSCALE:GREGORIAN
BEGIN:VEVENT
DTSTAMP:20260421T003505Z
UID:8ca3a3ef-a8e9-4558-a913-e77cede0681b
DTSTART;VALUE=DATE:20210510
DESCRIPTION:Property ID# 508218\, Locatoin: WELLINGTON\, Time: 3:00PM
SUMMARY:Auction for 
END:VEVENT
END:VCALENDAR
