BEGIN:VCALENDAR
VERSION:2.0
PRODID:icalendar-ruby
CALSCALE:GREGORIAN
BEGIN:VEVENT
DTSTAMP:20260419T141330Z
UID:305c3a88-a179-4dd8-8536-6ddda1d7d7ae
DTSTART;VALUE=DATE:20210408
DESCRIPTION:Property ID# 505625\, Locatoin: Khandallah Ray White Office \, 
 Time: 1:00PM
SUMMARY:Auction for 
END:VEVENT
END:VCALENDAR
