BEGIN:VCALENDAR
VERSION:2.0
PRODID:icalendar-ruby
CALSCALE:GREGORIAN
BEGIN:VEVENT
DTSTAMP:20260420T215212Z
UID:73548776-934e-4b93-853e-1dccf7308dff
DTSTART;VALUE=DATE:20210223
DESCRIPTION:Property ID# 501244\, Locatoin: WELLINGON\, Time: 12:00PM
SUMMARY:Auction for 
END:VEVENT
END:VCALENDAR
