BEGIN:VCALENDAR
VERSION:2.0
PRODID:icalendar-ruby
CALSCALE:GREGORIAN
BEGIN:VEVENT
DTSTAMP:20260422T005033Z
UID:5042b4a1-fb16-4d34-8571-21474224fa78
DTSTART;VALUE=DATE:20201214
DESCRIPTION:Property ID# 496931\, Locatoin: 8 Kent Terrace\, Wellington\, T
 ime: 1:00PM
SUMMARY:Auction for 
END:VEVENT
END:VCALENDAR
