BEGIN:VCALENDAR
VERSION:2.0
PRODID:icalendar-ruby
CALSCALE:GREGORIAN
BEGIN:VEVENT
DTSTAMP:20260422T005028Z
UID:fb9b68eb-a1e0-4ae3-99f1-c6eb933e56fb
DTSTART;VALUE=DATE:20201119
DESCRIPTION:Property ID# 494713\, Locatoin: 8 Kent Terrace\, Wellington\, T
 ime: 1:00PM
SUMMARY:Auction for 
END:VEVENT
END:VCALENDAR
