BEGIN:VCALENDAR
VERSION:2.0
PRODID:icalendar-ruby
CALSCALE:GREGORIAN
BEGIN:VEVENT
DTSTAMP:20260424T101605Z
UID:102250b8-839f-42e5-ae7c-2fee9b9aa83d
DTSTART;VALUE=DATE:20201007
DESCRIPTION:Property ID# 490693\, Locatoin: Harcourts Khandallah - 6 Dekka 
 Street\, Khandallah (not selling prior)\, Time: 4:00PM
SUMMARY:Auction for 
END:VEVENT
END:VCALENDAR
