BEGIN:VCALENDAR
VERSION:2.0
PRODID:icalendar-ruby
CALSCALE:GREGORIAN
BEGIN:VEVENT
DTSTAMP:20260422T003830Z
UID:30bdb47c-b5d3-4a73-8180-6e5902d0ea0d
DTSTART;VALUE=DATE:20200930
DESCRIPTION:Property ID# 489535\, Locatoin: 8 Kent Terrace\, Wellington\, T
 ime: 12:00PM
SUMMARY:Auction for 
END:VEVENT
END:VCALENDAR
