BEGIN:VCALENDAR
VERSION:2.0
PRODID:icalendar-ruby
CALSCALE:GREGORIAN
BEGIN:VEVENT
DTSTAMP:20260422T004045Z
UID:dbf7c477-1f14-4bec-8210-28462c9ffc69
DTSTART;VALUE=DATE:20200910
DESCRIPTION:Property ID# 487903\, Locatoin: 8 Kent Terrace\, Wellington\, T
 ime: 12:00PM
SUMMARY:Auction for 
END:VEVENT
END:VCALENDAR
