BEGIN:VCALENDAR
VERSION:2.0
PRODID:icalendar-ruby
CALSCALE:GREGORIAN
BEGIN:VEVENT
DTSTAMP:20210122T033135Z
UID:80dd15ee-6154-45b5-81e7-3099be651dcd
DTSTART;TZID=Pacific/Auckland:20210124T130000
DTEND;TZID=Pacific/Auckland:20210124T133000
DESCRIPTION:Property ID# 495944
SUMMARY:Openhome for 19 Fernhill Terrace
END:VEVENT
END:VCALENDAR
