BEGIN:VCALENDAR
VERSION:2.0
PRODID:icalendar-ruby
CALSCALE:GREGORIAN
BEGIN:VEVENT
DTSTAMP:20210122T034050Z
UID:b509ea33-2063-472f-a13a-c6001e70e4e1
DTSTART;TZID=Pacific/Auckland:20210124T140000
DTEND;TZID=Pacific/Auckland:20210124T143000
DESCRIPTION:Property ID# 499619
SUMMARY:Openhome for 1B Romney Square
END:VEVENT
END:VCALENDAR
