BEGIN:VCALENDAR
VERSION:2.0
PRODID:icalendar-ruby
CALSCALE:GREGORIAN
BEGIN:VEVENT
DTSTAMP:20210122T033117Z
UID:dc8c4ecd-69d9-46b0-adf3-5500fc57125f
DTSTART;TZID=Pacific/Auckland:20210124T120000
DTEND;TZID=Pacific/Auckland:20210124T123000
DESCRIPTION:Property ID# 499618
SUMMARY:Openhome for 57a Cortina Avenue
END:VEVENT
END:VCALENDAR
