BEGIN:VCALENDAR
VERSION:2.0
PRODID:icalendar-ruby
CALSCALE:GREGORIAN
BEGIN:VEVENT
DTSTAMP:20210122T033101Z
UID:cd9d4052-762b-44cc-b498-79412caab2a7
DTSTART;VALUE=DATE:20210203
DESCRIPTION:Property ID# 500035\, Locatoin: 8 Kent Terrace\, Wellington\, T
 ime: 12:00PM
SUMMARY:Auction for 10 Ramphal Terrace
END:VEVENT
END:VCALENDAR
