BEGIN:VCALENDAR
VERSION:2.0
PRODID:icalendar-ruby
CALSCALE:GREGORIAN
BEGIN:VEVENT
DTSTAMP:20210122T033054Z
UID:4b251b00-b454-46f7-a8e9-b7bdc1acaadf
DTSTART;VALUE=DATE:20210210
DESCRIPTION:Property ID# 499927\, Locatoin: 8 Kent Terrace\, Wellington\, T
 ime: 12:00PM
SUMMARY:Auction for 10 Clive Road
END:VEVENT
END:VCALENDAR
