BEGIN:VCALENDAR
VERSION:2.0
PRODID:icalendar-ruby
CALSCALE:GREGORIAN
BEGIN:VEVENT
DTSTAMP:20210122T034053Z
UID:19b7e52b-e8f4-46d6-a50e-c18338d1acaa
DTSTART;VALUE=DATE:20210211
DESCRIPTION:Property ID# 499619\, Locatoin: 149 Johnsonville Road\, Johnson
 ville\, Time: 1:00PM
SUMMARY:Auction for 1B Romney Square
END:VEVENT
END:VCALENDAR
