BEGIN:VCALENDAR
VERSION:2.0
PRODID:icalendar-ruby
CALSCALE:GREGORIAN
BEGIN:VEVENT
DTSTAMP:20210122T033119Z
UID:88dfd410-db9f-4ada-8826-09df98d8c581
DTSTART;VALUE=DATE:20210204
DESCRIPTION:Property ID# 499618\, Locatoin: 149 Johnsonville Road\, Johnson
 ville\, Time: 1:00PM
SUMMARY:Auction for 57a Cortina Avenue
END:VEVENT
END:VCALENDAR
