BEGIN:VCALENDAR
VERSION:2.0
PRODID:icalendar-ruby
CALSCALE:GREGORIAN
BEGIN:VEVENT
DTSTAMP:20210122T033110Z
UID:06a51acf-14e5-42dd-893e-be4b5ae174fc
DTSTART;VALUE=DATE:20210127
DESCRIPTION:Property ID# 499449\, Time: 12:00PM
SUMMARY:Auction for 3 Hawtrey Tce
END:VEVENT
END:VCALENDAR
