BEGIN:VCALENDAR
VERSION:2.0
PRODID:icalendar-ruby
CALSCALE:GREGORIAN
BEGIN:VEVENT
DTSTAMP:20210120T113609Z
UID:e3f3ccf4-58c8-49b4-b484-6f8d7ee6718f
DTSTART;VALUE=DATE:20210203
DESCRIPTION:Property ID# 499037\, Locatoin: Level1\, 77 Thorndon Quay\, Pip
 itea\, Time: 1:00PM
SUMMARY:Auction for 4 Cyril Way
END:VEVENT
END:VCALENDAR
