BEGIN:VCALENDAR
VERSION:2.0
PRODID:icalendar-ruby
CALSCALE:GREGORIAN
BEGIN:VEVENT
DTSTAMP:20210120T113605Z
UID:dba305c2-48b4-4b7b-9342-2b26e20b3c2a
DTSTART;VALUE=DATE:20210128
DESCRIPTION:Property ID# 499031\, Locatoin: Ray White Wellington City Offic
 e\, Level 1 77 Thorndon Quay\, Time: 12:00PM
SUMMARY:Auction for 85 Ngaio Gorge Road
END:VEVENT
END:VCALENDAR
