BEGIN:VCALENDAR
VERSION:2.0
PRODID:icalendar-ruby
CALSCALE:GREGORIAN
BEGIN:VEVENT
DTSTAMP:20210122T033124Z
UID:9191da54-962c-47f7-af10-68ebcf11a8de
DTSTART;VALUE=DATE:20201218
DESCRIPTION:Property ID# 497901\, Time: 3:00PM
SUMMARY:Auction for 12 Ohariu Road
END:VEVENT
END:VCALENDAR
