BEGIN:VCALENDAR
VERSION:2.0
PRODID:icalendar-ruby
CALSCALE:GREGORIAN
BEGIN:VEVENT
DTSTAMP:20210122T033128Z
UID:58cc00d6-36c0-48ef-bbb4-0dd6096ff495
DTSTART;VALUE=DATE:20201217
DESCRIPTION:Property ID# 497669\, Time: 1:00PM
SUMMARY:Auction for 40a Cashmere Avenue
END:VEVENT
END:VCALENDAR
