BEGIN:VCALENDAR
VERSION:2.0
PRODID:icalendar-ruby
CALSCALE:GREGORIAN
BEGIN:VEVENT
DTSTAMP:20210120T114632Z
UID:332cb4b6-903c-4024-a0cd-b5a550491294
DTSTART;VALUE=DATE:20201216
DESCRIPTION:Property ID# 497504\, Locatoin: 1/77 Thorndon Quay\, Wellington
 \, Time: 1:00PM
SUMMARY:Auction for 
END:VEVENT
END:VCALENDAR
