BEGIN:VCALENDAR
VERSION:2.0
PRODID:icalendar-ruby
CALSCALE:GREGORIAN
BEGIN:VEVENT
DTSTAMP:20210122T034655Z
UID:6c2772d6-ad30-408d-9361-85b9e9f5ae24
DTSTART;VALUE=DATE:20201215
DESCRIPTION:Property ID# 497268\, Locatoin: 8 Kent Terrace\, Wellington\, T
 ime: 12:00PM
SUMMARY:Auction for 
END:VEVENT
END:VCALENDAR
