BEGIN:VCALENDAR
VERSION:2.0
PRODID:icalendar-ruby
CALSCALE:GREGORIAN
BEGIN:VEVENT
DTSTAMP:20210120T114625Z
UID:96726865-18a6-473b-a430-ca8ebfabc4c5
DTSTART;VALUE=DATE:20201218
DESCRIPTION:Property ID# 496930\, Locatoin: Wellington Harcourts Auction Ro
 oms - Ground floor\, 54-56 Cambridge Terrace Te Aro Wellington\, Time: 12:
 00PM
SUMMARY:Auction for 
END:VEVENT
END:VCALENDAR
