BEGIN:VCALENDAR
VERSION:2.0
PRODID:icalendar-ruby
CALSCALE:GREGORIAN
BEGIN:VEVENT
DTSTAMP:20210120T114634Z
UID:2a99021a-0816-465b-b00c-7472d1df4b11
DTSTART;VALUE=DATE:20201211
DESCRIPTION:Property ID# 496224\, Locatoin: 1/77 Thorndon Quay\, Wellington
 \, Time: 3:00PM
SUMMARY:Auction for 
END:VEVENT
END:VCALENDAR
