BEGIN:VCALENDAR
VERSION:2.0
PRODID:icalendar-ruby
CALSCALE:GREGORIAN
BEGIN:VEVENT
DTSTAMP:20210122T033139Z
UID:2d1cc2cb-ca3a-43c4-ba6e-6ef84fe40747
DTSTART;VALUE=DATE:20201209
DESCRIPTION:Property ID# 496076\, Time: 1:00PM
SUMMARY:Auction for 19 Diane Grove
END:VEVENT
END:VCALENDAR
