BEGIN:VCALENDAR
VERSION:2.0
PRODID:icalendar-ruby
CALSCALE:GREGORIAN
BEGIN:VEVENT
DTSTAMP:20210120T114210Z
UID:63fc0f22-7c20-4b22-8e85-65497c5e7925
DTSTART;VALUE=DATE:20201209
DESCRIPTION:Property ID# 495942\, Locatoin: 8 Kent Terrace\, Wellington\, T
 ime: 12:00PM
SUMMARY:Auction for 
END:VEVENT
END:VCALENDAR
