BEGIN:VCALENDAR
VERSION:2.0
PRODID:icalendar-ruby
CALSCALE:GREGORIAN
BEGIN:VEVENT
DTSTAMP:20210120T115019Z
UID:c5efd99e-cc5c-4b31-a397-2d951768fa56
DTSTART;VALUE=DATE:20201208
DESCRIPTION:Property ID# 495545\, Locatoin: Ray White City Office 1/77 Thor
 ndon quay\, Time: 12:00PM
SUMMARY:Auction for 
END:VEVENT
END:VCALENDAR
