BEGIN:VCALENDAR
VERSION:2.0
PRODID:icalendar-ruby
CALSCALE:GREGORIAN
BEGIN:VEVENT
DTSTAMP:20210122T034658Z
UID:7a2e5a59-9219-4a23-b875-bda6a3f2636d
DTSTART;VALUE=DATE:20201203
DESCRIPTION:Property ID# 495416\, Locatoin: 8 Kent Terrace\, Wellington\, T
 ime: 1:00PM
SUMMARY:Auction for 
END:VEVENT
END:VCALENDAR
