BEGIN:VCALENDAR
VERSION:2.0
PRODID:icalendar-ruby
CALSCALE:GREGORIAN
BEGIN:VEVENT
DTSTAMP:20210122T034102Z
UID:f5355f96-ece8-4757-82d5-223f4e1e2826
DTSTART;VALUE=DATE:20201210
DESCRIPTION:Property ID# 495394\, Locatoin: 149 Johnsonville Raod\, Johnson
 ville\, Wellington 6037\, Time: 1:00PM
SUMMARY:Auction for 
END:VEVENT
END:VCALENDAR
