BEGIN:VCALENDAR
VERSION:2.0
PRODID:icalendar-ruby
CALSCALE:GREGORIAN
BEGIN:VEVENT
DTSTAMP:20210122T034704Z
UID:6c29787c-09dc-4d0a-b83b-4a8f38331eab
DTSTART;VALUE=DATE:20201126
DESCRIPTION:Property ID# 494997\, Locatoin: 8 Kent Terrace\, Wellington\, T
 ime: 12:00PM
SUMMARY:Auction for 
END:VEVENT
END:VCALENDAR
