BEGIN:VCALENDAR
VERSION:2.0
PRODID:icalendar-ruby
CALSCALE:GREGORIAN
BEGIN:VEVENT
DTSTAMP:20210122T033957Z
UID:ba6d2be0-e1c2-4e4b-9d0b-fb223fa48623
DTSTART;VALUE=DATE:20201118
DESCRIPTION:Property ID# 494455\, Locatoin: 8 Kent Terrace\, Wellington\, T
 ime: 12:00PM
SUMMARY:Auction for 
END:VEVENT
END:VCALENDAR
