BEGIN:VCALENDAR
VERSION:2.0
PRODID:icalendar-ruby
CALSCALE:GREGORIAN
BEGIN:VEVENT
DTSTAMP:20260424T131502Z
UID:544bc4b1-dcc9-44d4-a8e9-573281689681
DTSTART;VALUE=DATE:20201112
DESCRIPTION:Property ID# 493606\, Locatoin: L1/77 Thorndon Quay\, Thorndon\
 , Time: 1:00PM
SUMMARY:Auction for 
END:VEVENT
END:VCALENDAR
