BEGIN:VCALENDAR
VERSION:2.0
PRODID:icalendar-ruby
CALSCALE:GREGORIAN
BEGIN:VEVENT
DTSTAMP:20210120T114215Z
UID:0f511ef5-32aa-4d07-bf93-c305ed98051b
DTSTART;VALUE=DATE:20201111
DESCRIPTION:Property ID# 493125\, Locatoin: 8 Kent Terrace\, Wellington\, T
 ime: 12:00PM
SUMMARY:Auction for 
END:VEVENT
END:VCALENDAR
